BEGIN:VCALENDAR
VERSION:2.0
PRODID:-//Squarespace Inc/Squarespace 6//v6//EN
BEGIN:VEVENT
UID:5a8e569153450a4c0a8e9293@squarespace.com
DTSTAMP:20180222T075640Z
DTSTART:20180406T230000Z
DTEND:20180407T010000Z
SUMMARY:Meridan Dance with Kimberley Jade
GEO:-36.940252;174.654188
LOCATION:SOUL CENTRE\, 18 Huia Road\, Auckland\, Auckland\, 0604\, New Zeal
 and
END:VEVENT
END:VCALENDAR
