BEGIN:VCALENDAR
VERSION:2.0
PRODID:-//Squarespace Inc/Squarespace 6//v6//EN
BEGIN:VEVENT
UID:5a31e25924a6943e96251ed2@squarespace.com
DTSTAMP:20180502T003739Z
DTSTART:20180504T230000Z
DTEND:20180506T090000Z
SUMMARY:Power\, Pleasure & Purpose - A Life-shifting Deep Empowerment Progr
 am for Women
END:VEVENT
END:VCALENDAR
