BEGIN:VCALENDAR
VERSION:2.0
PRODID:-//Squarespace Inc/Squarespace 6//v6//EN
BEGIN:VEVENT
UID:5ae91aca88251bf7870589a6@squarespace.com
DTSTAMP:20180502T015906Z
DTSTART:20180504T230000Z
DTEND:20180505T013000Z
SUMMARY:Power\,Pleasure & Purpose - Friday Night Special
GEO:-36.940252;174.654188
LOCATION:SOUL Centre\, 18 Huia Road\, Auckland\, Auckland\, 0604\, New Zeal
 and
END:VEVENT
END:VCALENDAR
