BEGIN:VCALENDAR
VERSION:2.0
PRODID:-//Squarespace Inc/Squarespace 6//v6//EN
BEGIN:VEVENT
UID:5f4c1f524ada6c4dfa05439c@squarespace.com
DTSTAMP:20200830T215127Z
DTSTART:20200929T233000Z
DTEND:20200930T003000Z
SUMMARY:ONLINE Cacao Ceremony  
END:VEVENT
END:VCALENDAR
