BEGIN:VCALENDAR
VERSION:2.0
PRODID:-//Squarespace Inc/Squarespace 6//v6//EN
BEGIN:VEVENT
UID:5f4c1f37f746364c221d66c9@squarespace.com
DTSTAMP:20200830T215056Z
DTSTART:20200922T233000Z
DTEND:20200923T003000Z
SUMMARY:ONLINE Cacao Ceremony  
END:VEVENT
END:VCALENDAR
