BEGIN:VCALENDAR
VERSION:2.0
PRODID:-//Squarespace Inc/Squarespace 6//v6//EN
BEGIN:VEVENT
UID:5f0d425dbfa4f919d02a6689@squarespace.com
DTSTAMP:20200825T223521Z
DTSTART:20200825T233000Z
DTEND:20200826T003000Z
SUMMARY:ONLINE Cacao Ceremony 
END:VEVENT
END:VCALENDAR
