BEGIN:VCALENDAR
VERSION:2.0
PRODID:-//Squarespace Inc/Squarespace 6//v6//EN
BEGIN:VEVENT
UID:5f0d420015264f5ffe8b7a4c@squarespace.com
DTSTAMP:20200714T052930Z
DTSTART:20200728T233000Z
DTEND:20200729T003000Z
SUMMARY:ONLINE Cacao Ceremony - every Tuesday 
END:VEVENT
END:VCALENDAR
