BEGIN:VCALENDAR
VERSION:2.0
PRODID:-//Squarespace Inc/Squarespace 6//v6//EN
BEGIN:VEVENT
UID:5f0d4141e892147e149ee4c0@squarespace.com
DTSTAMP:20200714T052848Z
DTSTART:20200714T233000Z
DTEND:20200715T003000Z
SUMMARY:ONLINE Cacao Ceremony - every Tuesday 
END:VEVENT
END:VCALENDAR
