BEGIN:VCALENDAR
VERSION:2.0
PRODID:-//Squarespace Inc/Squarespace 6//v6//EN
BEGIN:VEVENT
UID:5ecee89238a543335926c2de@squarespace.com
DTSTAMP:20200527T222956Z
DTSTART:20200630T233000Z
DTEND:20200701T003000Z
SUMMARY:FREE ONLINE Cacao Ceremony every Tuesday 
END:VEVENT
END:VCALENDAR
