BEGIN:VCALENDAR
VERSION:2.0
PRODID:-//Squarespace Inc/Squarespace 6//v6//EN
BEGIN:VEVENT
UID:5ec34ca686a0c12eed9ad126@squarespace.com
DTSTAMP:20201019T031342Z
DTSTART:20210213T000000Z
DTEND:20210213T020000Z
SUMMARY:New Moon Majik
GEO:36.059482;-95.922821
LOCATION:ONLINE
END:VEVENT
END:VCALENDAR
