BEGIN:VCALENDAR
VERSION:2.0
PRODID:-//Squarespace Inc/Squarespace 6//v6//EN
BEGIN:VEVENT
UID:5fa0ae094fc4ad2dcf51b270@squarespace.com
DTSTAMP:20201103T011308Z
DTSTART:20201220T160000Z
DTEND:20201220T190000Z
SUMMARY:The Annual SOUL Christmas BEACH Potluck
GEO:-37.010653;174.60318
LOCATION:Cornwallis\, Auckland\, New Zealand
END:VEVENT
END:VCALENDAR
