BEGIN:VCALENDAR
VERSION:2.0
PRODID:-//Squarespace Inc/Squarespace 6//v6//EN
BEGIN:VEVENT
UID:5e7d2b19d6a01a2bf68d6cbc@squarespace.com
DTSTAMP:20201019T033421Z
DTSTART:20220317T130000Z
DTEND:20220318T210000Z
SUMMARY:BASIC (12-Hr) Psoas Workshop with Liz Koch 
GEO:-36.940252;174.654188
LOCATION:SOUL Centre\, 18 Huia Road\, Auckland\, Auckland\, 0604\, New Zeal
 and
END:VEVENT
END:VCALENDAR
