BEGIN:VCALENDAR
VERSION:2.0
PRODID:-//Squarespace Inc/Squarespace 6//v6//EN
BEGIN:VEVENT
UID:5eaba7a3befe9349693e1b83@squarespace.com
DTSTAMP:20200825T050932Z
DTSTART:20200912T230000Z
DTEND:20200913T010000Z
SUMMARY:Breathing Lab - ONLINE
END:VEVENT
END:VCALENDAR
