BEGIN:VCALENDAR
VERSION:2.0
PRODID:-//Squarespace Inc/Squarespace 6//v6//EN
BEGIN:VEVENT
UID:5f5ffa63aed573278ad3276a@squarespace.com
DTSTAMP:20201019T030300Z
DTSTART:20201104T003000Z
DTEND:20201104T013000Z
SUMMARY:COCO SOUL Live 
GEO:-36.978402;174.606689
LOCATION:Huia Road\, Auckland\, Auckland\, 0604\, New Zealand
END:VEVENT
END:VCALENDAR
