BEGIN:VCALENDAR
VERSION:2.0
PRODID:-//Squarespace Inc/Squarespace 6//v6//EN
BEGIN:VEVENT
UID:5f0d3fc2a3148f0ff2ae5e25@squarespace.com
DTSTAMP:20200914T231859Z
DTSTART:20200901T233000Z
DTEND:20200902T003000Z
SUMMARY:COCO SOUL Live
END:VEVENT
END:VCALENDAR
