BEGIN:VCALENDAR
VERSION:2.0
PRODID:-//Squarespace Inc/Squarespace 6//v6//EN
BEGIN:VEVENT
UID:5a24ac22ec212d3898e2c896@squarespace.com
DTSTAMP:20171204T022409Z
DTSTART:20171217T150000Z
DTEND:20171217T173000Z
SUMMARY:Conscious Relationships - Talk + Workshop with Dean Powell and Beat
 rice Alexander
END:VEVENT
END:VCALENDAR
