BEGIN:VCALENDAR
VERSION:2.0
PRODID:-//Squarespace Inc/Squarespace 6//v6//EN
BEGIN:VEVENT
UID:5a66aadd652dea882245bd6b@squarespace.com
DTSTAMP:20180123T032607Z
DTSTART:20180210T210000Z
DTEND:20180210T230000Z
SUMMARY:Contact Jam
GEO:-36.940252;174.654188
LOCATION:SOUL CENTRE\, 18 Huia Road\, Auckland\, Auckland\, 0604\, New Zeal
 and
END:VEVENT
END:VCALENDAR
