BEGIN:VCALENDAR
VERSION:2.0
PRODID:-//Squarespace Inc/Squarespace 6//v6//EN
BEGIN:VEVENT
UID:5fd7fc450e4e4e58f8a1d673@squarespace.com
DTSTAMP:20201215T000056Z
DTSTART:20210124T003000Z
DTEND:20210124T030000Z
SUMMARY:Deep Dance Tribe - January
GEO:-36.931052;174.700331
LOCATION:Blockhouse Bay Boat Club\, 91 Endeavour Street\, Auckland\, Auckla
 nd\, 0600\, New Zealand
END:VEVENT
END:VCALENDAR
