BEGIN:VCALENDAR
VERSION:2.0
PRODID:-//Squarespace Inc/Squarespace 6//v6//EN
BEGIN:VEVENT
UID:5f39f34270cb5c56a4da4bc4@squarespace.com
DTSTAMP:20201214T235901Z
DTSTART:20201031T233000Z
DTEND:20201101T023000Z
SUMMARY:Deep Dance Tribe - October
GEO:-36.931052;174.700331
LOCATION:Blockhouse Bay Boat Club\, 91 Endeavour Street\, Auckland\, Auckla
 nd\, 0600\, New Zealand
END:VEVENT
END:VCALENDAR
