BEGIN:VCALENDAR
VERSION:2.0
PRODID:-//Squarespace Inc/Squarespace 6//v6//EN
BEGIN:VEVENT
UID:5ef170b1775ad552cdbda634@squarespace.com
DTSTAMP:20200723T234748Z
DTSTART:20200724T233000Z
DTEND:20200725T023000Z
SUMMARY:Deep Dance Tribe - July
GEO:-36.931052;174.700331
LOCATION:Blockhouse Bay Boat Club\, 91 Endeavour Street\, Auckland\, Auckla
 nd\, 0600\, New Zealand
END:VEVENT
END:VCALENDAR
