BEGIN:VCALENDAR
VERSION:2.0
PRODID:-//Squarespace Inc/Squarespace 6//v6//EN
BEGIN:VEVENT
UID:5e13f2f61cfc13450363f66c@squarespace.com
DTSTAMP:20210114T001736Z
DTSTART:20210130T150000Z
DTEND:20210131T220000Z
SUMMARY:Elemental Alchemy (Qi Gong + Energy Medicine Training) - EARTH
GEO:-36.940252;174.654188
LOCATION:SOUL CENTRE\, 18 Huia Road\, Auckland\, Auckland\, 0604\, New Zeal
 and
END:VEVENT
END:VCALENDAR
