BEGIN:VCALENDAR
VERSION:2.0
PRODID:-//Squarespace Inc/Squarespace 6//v6//EN
BEGIN:VEVENT
UID:590004104d72ffdb1076341d@squarespace.com
DTSTAMP:20170608T001558Z
DTSTART:20170623T140000Z
DTEND:20170625T200000Z
SUMMARY:Facial Rejuvenation
GEO:-36.940252;174.654188
LOCATION:SOUL CENTRE\, 18 Huia Road\, Auckland\, Auckland\, 0604\, New Zeal
 and
END:VEVENT
END:VCALENDAR
