BEGIN:VCALENDAR
VERSION:2.0
PRODID:-//Squarespace Inc/Squarespace 6//v6//EN
BEGIN:VEVENT
UID:5f17c9e8f349b52c96c96220@squarespace.com
DTSTAMP:20201022T015252Z
DTSTART:20201108T000000Z
DTEND:20201108T013000Z
SUMMARY:INTRO to Elemental Alchemy - ONLINE 
END:VEVENT
END:VCALENDAR
