BEGIN:VCALENDAR
VERSION:2.0
PRODID:-//Squarespace Inc/Squarespace 6//v6//EN
BEGIN:VEVENT
UID:5f458efdbb0b1537ebe26340@squarespace.com
DTSTAMP:20201111T070222Z
DTSTART:20210213T150000Z
DTEND:20210214T220000Z
SUMMARY:Lady Chi - Women's Sacred Taoist Qi Gong
END:VEVENT
END:VCALENDAR
