BEGIN:VCALENDAR
VERSION:2.0
PRODID:-//Squarespace Inc/Squarespace 6//v6//EN
BEGIN:VEVENT
UID:5e549ac121f14250df066cec@squarespace.com
DTSTAMP:20200825T223544Z
DTSTART:20200913T230000Z
DTEND:20200914T010000Z
SUMMARY:ONLINE -ORO ATUA Pūoro Mãori Sound Healing Journey
GEO:-36.940252;174.654188
LOCATION:SOUL Centre\, 18 Huia Road\, Auckland\, Auckland\, 0604\, New Zeal
 and
END:VEVENT
END:VCALENDAR
