BEGIN:VCALENDAR
VERSION:2.0
PRODID:-//Squarespace Inc/Squarespace 6//v6//EN
BEGIN:VEVENT
UID:5f6d25fc63d90a352ae7b02f@squarespace.com
DTSTAMP:20200924T230445Z
DTSTART:20201027T233000Z
DTEND:20201028T003000Z
SUMMARY:ONLINE Cacao Ceremony  
END:VEVENT
END:VCALENDAR
