BEGIN:VCALENDAR
VERSION:2.0
PRODID:-//Squarespace Inc/Squarespace 6//v6//EN
BEGIN:VEVENT
UID:5e7d2d44e1a6fc55dd1845be@squarespace.com
DTSTAMP:20201019T033447Z
DTSTART:20220319T140000Z
DTEND:20220321T210000Z
SUMMARY:Psoas from Pregnancy to Postpartum - 3 Days with Liz Koch
GEO:-36.940252;174.654188
LOCATION:SOUL Centre\, 18 Huia Road\, Auckland\, Auckland\, 0604\, New Zeal
 and
END:VEVENT
END:VCALENDAR
