BEGIN:VCALENDAR
VERSION:2.0
PRODID:-//Squarespace Inc/Squarespace 6//v6//EN
BEGIN:VEVENT
UID:58eda1da59cc687985825030@squarespace.com
DTSTAMP:20170608T001530Z
DTSTART:20170611T200000Z
DTEND:20170611T220000Z
SUMMARY:SHIN YOGA - EARLY EVENING RETREAT
END:VEVENT
END:VCALENDAR
