BEGIN:VCALENDAR
VERSION:2.0
PRODID:-//Squarespace Inc/Squarespace 6//v6//EN
BEGIN:VEVENT
UID:5be22767758d46c2442c3452@squarespace.com
DTSTAMP:20201120T212633Z
DTSTART:20201220T000000Z
DTEND:20201220T030000Z
SUMMARY:SOULstice- Dance Ritual Cacao Connection Community
END:VEVENT
END:VCALENDAR
