BEGIN:VCALENDAR
VERSION:2.0
PRODID:-//Squarespace Inc/Squarespace 6//v6//EN
BEGIN:VEVENT
UID:5f0d41e80ca5cd5b26d78815@squarespace.com
DTSTAMP:20200718T095006Z
DTSTART:20200721T233000Z
DTEND:20200722T003000Z
SUMMARY:ONLINE Cacao Ceremony - every Tuesday
END:VEVENT
END:VCALENDAR
