BEGIN:VCALENDAR
VERSION:2.0
PRODID:-//Squarespace Inc/Squarespace 6//v6//EN
BEGIN:VEVENT
UID:5a24ae0e9140b76b2c7ad38a@squarespace.com
DTSTAMP:20201216T225740Z
DTSTART:20210116T150000Z
DTEND:20210117T200000Z
SUMMARY:Vision Quest with Wilhemeena Monroe
END:VEVENT
END:VCALENDAR
