BEGIN:VCALENDAR
VERSION:2.0
PRODID:-//Squarespace Inc/Squarespace 6//v6//EN
BEGIN:VEVENT
UID:5f45929c41bef97b28bed82b@squarespace.com
DTSTAMP:20200825T224007Z
DTSTART:20200912T140000Z
DTEND:20200913T180000Z
SUMMARY:Wealthy Healer - Online Retreat 
END:VEVENT
END:VCALENDAR
